BEGIN:VCALENDAR
VERSION:2.0
PRODID:-//NJSNA - ECPv6.15.18//NONSGML v1.0//EN
CALSCALE:GREGORIAN
METHOD:PUBLISH
X-WR-CALNAME:NJSNA
X-ORIGINAL-URL:https://njsna.org
X-WR-CALDESC:Events for NJSNA
REFRESH-INTERVAL;VALUE=DURATION:PT1H
X-Robots-Tag:noindex
X-PUBLISHED-TTL:PT1H
BEGIN:VTIMEZONE
TZID:America/New_York
BEGIN:DAYLIGHT
TZOFFSETFROM:-0500
TZOFFSETTO:-0400
TZNAME:EDT
DTSTART:20300310T070000
END:DAYLIGHT
BEGIN:STANDARD
TZOFFSETFROM:-0400
TZOFFSETTO:-0500
TZNAME:EST
DTSTART:20301103T060000
END:STANDARD
BEGIN:DAYLIGHT
TZOFFSETFROM:-0500
TZOFFSETTO:-0400
TZNAME:EDT
DTSTART:20310309T070000
END:DAYLIGHT
BEGIN:STANDARD
TZOFFSETFROM:-0400
TZOFFSETTO:-0500
TZNAME:EST
DTSTART:20311102T060000
END:STANDARD
BEGIN:DAYLIGHT
TZOFFSETFROM:-0500
TZOFFSETTO:-0400
TZNAME:EDT
DTSTART:20320314T070000
END:DAYLIGHT
BEGIN:STANDARD
TZOFFSETFROM:-0400
TZOFFSETTO:-0500
TZNAME:EST
DTSTART:20321107T060000
END:STANDARD
END:VTIMEZONE
BEGIN:VEVENT
DTSTART;TZID=America/New_York:20310213T193000
DTEND;TZID=America/New_York:20310213T203000
DTSTAMP:20260424T084941
CREATED:20260120T143150Z
LAST-MODIFIED:20260409T220726Z
UID:10001238-1928777400-1928781000@njsna.org
SUMMARY:Healthy Nurse Healthy NJ Monthly Meeting
DESCRIPTION:To help the Garden State’s over 200\,000 licensed nurses become their healthiest\, NJSNA is excited to continue its partnership with the American Nurses Association (ANA) for the Healthy Nurse\, Healthy Nation (HNHN).
URL:https://njsna.org/event/healthy-nurse-healthy-nation-monthly-meeting-2/2031-02-13/
ATTACH;FMTTYPE=image/png:https://njsna.org/wp-content/uploads/2025/08/Health-Nurse-2026-1.png
END:VEVENT
END:VCALENDAR