BEGIN:VCALENDAR
VERSION:2.0
PRODID:-//NJSNA - ECPv6.15.18//NONSGML v1.0//EN
CALSCALE:GREGORIAN
METHOD:PUBLISH
X-WR-CALNAME:NJSNA
X-ORIGINAL-URL:https://njsna.org
X-WR-CALDESC:Events for NJSNA
REFRESH-INTERVAL;VALUE=DURATION:PT1H
X-Robots-Tag:noindex
X-PUBLISHED-TTL:PT1H
BEGIN:VTIMEZONE
TZID:America/New_York
BEGIN:DAYLIGHT
TZOFFSETFROM:-0500
TZOFFSETTO:-0400
TZNAME:EDT
DTSTART:20260308T070000
END:DAYLIGHT
BEGIN:STANDARD
TZOFFSETFROM:-0400
TZOFFSETTO:-0500
TZNAME:EST
DTSTART:20261101T060000
END:STANDARD
BEGIN:DAYLIGHT
TZOFFSETFROM:-0500
TZOFFSETTO:-0400
TZNAME:EDT
DTSTART:20270314T070000
END:DAYLIGHT
BEGIN:STANDARD
TZOFFSETFROM:-0400
TZOFFSETTO:-0500
TZNAME:EST
DTSTART:20271107T060000
END:STANDARD
BEGIN:DAYLIGHT
TZOFFSETFROM:-0500
TZOFFSETTO:-0400
TZNAME:EDT
DTSTART:20280312T070000
END:DAYLIGHT
BEGIN:STANDARD
TZOFFSETFROM:-0400
TZOFFSETTO:-0500
TZNAME:EST
DTSTART:20281105T060000
END:STANDARD
END:VTIMEZONE
BEGIN:VEVENT
DTSTART;TZID=America/New_York:20270420T183000
DTEND;TZID=America/New_York:20270420T193000
DTSTAMP:20260422T184834
CREATED:20250808T134437Z
LAST-MODIFIED:20250808T134855Z
UID:10000270-1808245800-1808249400@njsna.org
SUMMARY:Region 5 Monthly Meeting
DESCRIPTION:Welcome\, NJSNA Region 5 Nurses!\nTo all nurses across Burlington\, Camden\, Cumberland\, Gloucester\, and Salem Counties—welcome to Region 5 of the New Jersey State Nurses Association! \nTo get the Zoom link or more information\, reach out to us anytime at NJSNARegion5@gmail.com. \nLet’s connect\, collaborate\, and elevate nursing together.\nWith pride and partnership\,\nMarilyn Mapp\, DNP\, RN\, NEA-BC President\, Region 5
URL:https://njsna.org/event/region-5-monthly-meeting/2027-04-20/
CATEGORIES:Region 5
ATTACH;FMTTYPE=image/png:https://njsna.org/wp-content/uploads/2025/08/Region-5-scaled.png
END:VEVENT
END:VCALENDAR